Workbook
Name bild1: INDIRECT("Tabelle1!B"&Tabelle1!$A$1)

Sheet Tabelle1
A1: =IF(System!L1="DE",1,IF(System!L1="EN",2)) -> 1 | B1: #VALUE!
B2: #VALUE!

Sheet System
F1: =IF(Tabelle1!$A$1=1,"PV - Konfigurationsassistent",IF(Tabelle1!$A$1=2,"PV - configuration wizard")) -> PV - Konfigurationsassistent | L1: DE
F4: =IF(Tabelle1!$A$1=1,"*Alle Angaben und Werte sind ohne Gewähr",IF(Tabelle1!$A$1=2,"*All information and values are without guarantee")) -> *Alle Angaben und Werte sind ohne Gewähr
C5: =IF(Tabelle1!$A$1=1,"1. Dateneingabe",IF(Tabelle1!$A$1=2,"1. Insert data")) -> 1. Dateneingabe
C7: ='PV modules'!B2 -> PV-MODULE NAME | D7: ='PV modules'!C2 -> @ TEMP | E7: ='PV modules'!D2 -> Pmpp | F7: ='PV modules'!E2 -> Uoc | G7: ='PV modules'!F2 -> Umpp | H7: ='PV modules'!G2 -> Isc | I7: ='PV modules'!H2 -> Impp | J7: ='PV modules'!J2 -> TEMP KOEFFIZIENT Uoc | K7: ='PV modules'!L2 -> TEMP KOEFFIZIENT Isc | L7: ='PV modules'!N2 -> TEMP KOEFFIZIENT Pmpp | M7: ='PV modules'!I2 -> EFFIZIENZ | N7: ='PV modules'!R2 -> FLÄCHE
D8: ='PV modules'!C3 -> °C | E8: ='PV modules'!D3 -> Wp | F8: ='PV modules'!E3 -> Vdc | G8: ='PV modules'!F3 -> Vdc | H8: ='PV modules'!G3 -> A | I8: ='PV modules'!H3 -> A | J8: =IF(VLOOKUP($C$9,'PV modules'!B4:R500,9,FALSE)<>"",'PV modules'!J3,'PV modules'!K3) -> %/K | K8: =IF(VLOOKUP($C$9,'PV modules'!B4:R500,11,FALSE)<>"",'PV modules'!L3,'PV modules'!M3) -> %/K | L8: =IF(VLOOKUP($C$9,'PV modules'!B4:R500,13,FALSE)<>"",'PV modules'!N3,'PV modules'!O3) -> %/K | M8: ='PV modules'!I3 -> % | N8: ='PV modules'!R3 -> m²
C9: Hyundai HiT-H445LE-FB | D9: =VLOOKUP($C$9,'PV modules'!B4:R500,2,FALSE) -> 25 | E9: =VLOOKUP($C$9,'PV modules'!B4:R500,3,FALSE) -> 445 | F9: =VLOOKUP($C$9,'PV modules'!B4:R500,4,FALSE) -> 36.62 | G9: =VLOOKUP($C$9,'PV modules'!B4:R500,5,FALSE) -> 30.72 | H9: =VLOOKUP($C$9,'PV modules'!B4:R500,6,FALSE) -> 15.42 | I9: =VLOOKUP($C$9,'PV modules'!B4:R500,7,FALSE) -> 14.49 | J9: =IF(VLOOKUP($C$9,'PV modules'!B4:R500,9,FALSE)<>"",VLOOKUP($C$9,'PV modules'!B4:R500,9,FALSE),VLOOKUP($C$9,'PV modules'!B4:R500,10,FALSE)) -> -0.22 | K9: =IF(VLOOKUP($C$9,'PV modules'!B4:R500,11,FALSE)<>"",VLOOKUP($C$9,'PV modules'!B4:R500,11,FALSE),VLOOKUP($C$9,'PV modules'!B4:R500,12,FALSE)) -> 0.04 | L9: =IF(VLOOKUP($C$9,'PV modules'!B4:R500,13,FALSE)<>"",VLOOKUP($C$9,'PV modules'!B4:R500,13,FALSE),VLOOKUP($C$9,'PV modules'!B4:R500,14,FALSE)) -> -0.24 | M9: =VLOOKUP($C$9,'PV modules'!B4:R500,8,FALSE) -> 0.223 | N9: =VLOOKUP($C$9,'PV modules'!B4:R500,17,FALSE) -> 1.998108
C11: =Inverter!B2 -> PRODUKT | D11: =Inverter!C2 -> TYP | E11: =Inverter!E2 -> ANZAHL MPPT's | F11: =Inverter!F2 -> PV LEISTUNG | G11: =Inverter!G2 -> PV LEISTUNG /MPPT | H11: =Inverter!H2 -> Umppt MIN | I11: =Inverter!I2 -> Umppt MAX | J11: =Inverter!J2 -> Uoc MIN | K11: =Inverter!K2 -> Uoc MAX | L11: =Inverter!L2 -> Impp < 300Vdc | ... N11: =Inverter!N2 -> Isc
F12: =Inverter!F3 -> kWp | G12: =Inverter!G3 -> kW | H12: =Inverter!H3 -> Vdc | I12: =Inverter!I3 -> Vdc | J12: =Inverter!J3 -> Vdc | K12: =Inverter!K3 -> Vdc | L12: =Inverter!L3 -> A | M12: =Inverter!M3 -> A | N12: =Inverter!N3 -> A
C13: h10 (standard) | D13: =VLOOKUP(C13,Inverter!B4:N25,2,FALSE) -> hybrid | E13: =VLOOKUP(C13,Inverter!B4:N25,4,FALSE) -> 2 | F13: =VLOOKUP(C13,Inverter!B4:N25,5,FALSE) -> 15 | G13: =VLOOKUP(C13,Inverter!B4:N25,6,FALSE) -> 10 | H13: =VLOOKUP(C13,Inverter!B4:N25,7,FALSE) -> 350 | I13: =VLOOKUP(C13,Inverter!B4:N25,8,FALSE) -> 800 | J13: =VLOOKUP(C13,Inverter!B4:N25,9,FALSE) -> 350 | K13: =VLOOKUP(C13,Inverter!B4:N25,10,FALSE) -> 900 | L13: =VLOOKUP(C13,Inverter!B4:N25,11,FALSE) -> 18.6 | M13: =VLOOKUP(C13,Inverter!B4:N25,12,FALSE) -> 18.6 | N13: =VLOOKUP(C13,Inverter!B4:N25,13,FALSE) -> 25
C15: =IF(Tabelle1!$A$1=1,"Temperatureinfluss @",IF(Tabelle1!$A$1=2,"Temperature impact @")) -> Temperatureinfluss @ | D15: Uoc | E15: Umpp | F15: Isc | G15: Impp | H15: Pmpp | J15: Δ Uoc/°C | K15: Δ Isc/°C | L15: Δ Pmpp/°C
C16: ='PV modules'!C3 -> °C | D16: ='PV modules'!E3 -> Vdc | E16: ='PV modules'!F3 -> Vdc | F16: ='PV modules'!G3 -> A | G16: ='PV modules'!H3 -> A | H16: ='PV modules'!D3 -> Wp | J16: Vdc | K16: A | L16: W
C17: 70 | D17: =F$9+(($C17-$D$9)*$J$17) -> 32.99462 | E17: =G$9+(($C17-$D$9)*$J$17) -> 27.09462 | F17: =H$9+(($C17-$D$9)*$K$17) -> 15.69756 | G17: =I$9+(($C17-$D$9)*$K$17) -> 14.76756 | H17: =E$9+(($C17-$D$9)*$L$17) -> 396.94 | J17: =IF(VLOOKUP($C$9,'PV modules'!B4:R500,9,FALSE)<>"",F9*J9/100,J9/1000) -> -0.080564 | K17: =IF(VLOOKUP($C$9,'PV modules'!B4:R500,11,FALSE)<>"",K9*H9/100,K9/1000) -> 0.006168 | L17: =IF(VLOOKUP($C$9,'PV modules'!B4:R500,13,FALSE)<>"",L9*E9/100,L9/1000) -> -1.068
C18: -20 | D18: =F$9+(($C18-$D$9)*$J$17) -> 40.24538 | E18: =G$9+(($C18-$D$9)*$J$17) -> 34.34538 | F18: =H$9+(($C18-$D$9)*$K$17) -> 15.14244 | G18: =I$9+(($C18-$D$9)*$K$17) -> 14.21244 | H18: =E$9+(($C18-$D$9)*$L$17) -> 493.06
C20: =IF(Tabelle1!$A$1=1,"2. Zulässige Modulkonfigurationen",IF(Tabelle1!$A$1=2,"2. Allowed module configurations")) -> 2. Zulässige Modulkonfigurationen | J20: =IF(Tabelle1!$A$1=1,"3. Geplante Modulkonfiguration",IF(Tabelle1!$A$1=2,"3. Planned module configuration")) -> 3. Geplante Modulkonfiguration
C22: =IF(Tabelle1!$A$1=1,"ANZAHL PV-MODULE PRO STRING",IF(Tabelle1!$A$1=2,"NUMBER OF PV PANELS PER STRING")) -> ANZAHL PV-MODULE PRO STRING | D22: Uoc MAX | E22: Uoc MIN | F22: Umpp MAX | G22: Umpp MIN | J22: =IF(Tabelle1!$A$1=1,"String Konfiguration",IF(Tabelle1!$A$1=2,"String configuration")) -> String Konfiguration | K22: PANELS /STRING | L22: STRINGS | M22: =F11 -> PV LEISTUNG | N22: =N7 -> FLÄCHE
C23: =IF(Tabelle1!$A$1=1,"Anzahl",IF(Tabelle1!$A$1=2,"Number")) -> Anzahl | D23: Vdc | E23: Vdc | F23: Vdc | G23: Vdc | K23: =IF(Tabelle1!$A$1=1,"Anzahl",IF(Tabelle1!$A$1=2,"Number")) -> Anzahl | L23: =IF(Tabelle1!$A$1=1,"Anzahl",IF(Tabelle1!$A$1=2,"Number")) -> Anzahl | M23: kWp | N23: m²
C24: 3 | D24: =C24*$D$18 -> 120.73614 | E24: =C24*$D$17 -> 98.98386 | F24: =$C24*$E$18 -> 103.03614 | G24: =$C24*$E$17 -> 81.28386 | J24: =IF($E$13>=1, "MPPT1", "") -> MPPT1 | K24: 13 | L24: 1 | M24: =K24*L24*$E$9/1000 -> 5.785 | N24: =K24*L24*$N$9 -> 25.975404
C25: 4 | D25: =C25*$D$18 -> 160.98152 | E25: =C25*$D$17 -> 131.97848 | F25: =$C25*$E$18 -> 137.38152 | G25: =$C25*$E$17 -> 108.37848 | J25: Status | K25: =IF(R91=1,"okay",IF(Tabelle1!$A$1=1,R172,IF(Tabelle1!$A$1=2,R173))) -> okay | L25: =IF(R93=1,"okay",IF(Tabelle1!$A$1=1,R174,IF(Tabelle1!$A$1=2,R175))) -> okay | M25: =IF(R94=1,"okay",IF(Tabelle1!$A$1=1,R176,IF(Tabelle1!$A$1=2,R177))) -> okay
C26: 5 | D26: =C26*$D$18 -> 201.2269 | E26: =C26*$D$17 -> 164.9731 | F26: =$C26*$E$18 -> 171.7269 | G26: =$C26*$E$17 -> 135.4731
C27: 6 | D27: =C27*$D$18 -> 241.47228 | E27: =C27*$D$17 -> 197.96772 | F27: =$C27*$E$18 -> 206.07228 | G27: =$C27*$E$17 -> 162.56772
C28: 7 | D28: =C28*$D$18 -> 281.71766 | E28: =C28*$D$17 -> 230.96234 | F28: =$C28*$E$18 -> 240.41766 | G28: =$C28*$E$17 -> 189.66234 | J28: =IF($E$13>=2, "MPPT2", "") -> MPPT2 | K28: 14 | L28: 1 | M28: =K28*L28*$E$9/1000 -> 6.23 | N28: =K28*L28*$N$9 -> 27.973512
C29: 8 | D29: =C29*$D$18 -> 321.96304 | E29: =C29*$D$17 -> 263.95696 | F29: =$C29*$E$18 -> 274.76304 | G29: =$C29*$E$17 -> 216.75696 | J29: Status | K29: =IF(R99=1,"okay",IF(Tabelle1!$A$1=1,R172,IF(Tabelle1!$A$1=2,R173))) -> okay | L29: =IF(R101=1,"okay",IF(Tabelle1!$A$1=1,R174,IF(Tabelle1!$A$1=2,R175))) -> okay | M29: =IF(R102=1,"okay",IF(Tabelle1!$A$1=1,R176,IF(Tabelle1!$A$1=2,R177))) -> okay
C30: 9 | D30: =C30*$D$18 -> 362.20842 | E30: =C30*$D$17 -> 296.95158 | F30: =$C30*$E$18 -> 309.10842 | G30: =$C30*$E$17 -> 243.85158
C31: 10 | D31: =C31*$D$18 -> 402.4538 | E31: =C31*$D$17 -> 329.9462 | F31: =$C31*$E$18 -> 343.4538 | G31: =$C31*$E$17 -> 270.9462
C32: 11 | D32: =C32*$D$18 -> 442.69918 | E32: =C32*$D$17 -> 362.94082 | F32: =$C32*$E$18 -> 377.79918 | G32: =$C32*$E$17 -> 298.04082 | J32: =IF($E$13>=3, "MPPT3", "") | K32: 24 | L32: 1 | M32: =IF($E$13>=3, (K32*L32*$E$9/1000), "") | N32: =IF($E$13>=3, K32*L32*$N$9, "")
C33: 12 | D33: =C33*$D$18 -> 482.94456 | E33: =C33*$D$17 -> 395.93544 | F33: =$C33*$E$18 -> 412.14456 | G33: =$C33*$E$17 -> 325.13544 | J33: =IF($E$13>=3, "Status", "") | K33: =IF($E$13>=3, IF(R107=1,"okay",IF(Tabelle1!$A$1=1,R172,IF(Tabelle1!$A$1=2,R173))), "") | L33: =IF($E$13>=3, IF(R109=1,"okay",IF(Tabelle1!$A$1=1,R174,IF(Tabelle1!$A$1=2,R175))), "") | M33: =IF($E$13>=3, IF(R110=1,"okay",IF(Tabelle1!$A$1=1,R176,IF(Tabelle1!$A$1=2,R177))), "")
C34: 13 | D34: =C34*$D$18 -> 523.18994 | E34: =C34*$D$17 -> 428.93006 | F34: =$C34*$E$18 -> 446.48994 | G34: =$C34*$E$17 -> 352.23006
C35: 14 | D35: =C35*$D$18 -> 563.43532 | E35: =C35*$D$17 -> 461.92468 | F35: =$C35*$E$18 -> 480.83532 | G35: =$C35*$E$17 -> 379.32468
C36: 15 | D36: =C36*$D$18 -> 603.6807 | E36: =C36*$D$17 -> 494.9193 | F36: =$C36*$E$18 -> 515.1807 | G36: =$C36*$E$17 -> 406.4193 | J36: =IF($E$13>=4, "MPPT4", "") | K36: 24 | L36: 1 | M36: =IF($E$13>=4, K36*L36*$E$9/1000, "") | N36: =IF($E$13>=4, K36*L36*$N$9, "")
C37: 16 | D37: =C37*$D$18 -> 643.92608 | E37: =C37*$D$17 -> 527.91392 | F37: =$C37*$E$18 -> 549.52608 | G37: =$C37*$E$17 -> 433.51392 | J37: =IF($E$13>=4, "Status", "") | K37: =IF($E$13>=4, IF(R115=1,"okay",IF(Tabelle1!$A$1=1,R172,IF(Tabelle1!$A$1=2,R173))), "") | L37: =IF($E$13>=4, IF(R117=1,"okay",IF(Tabelle1!$A$1=1,R174,IF(Tabelle1!$A$1=2,R175))), "") | M37: =IF($E$13>=4, IF(R118=1,"okay",IF(Tabelle1!$A$1=1,R176,IF(Tabelle1!$A$1=2,R177))), "")
C38: 17 | D38: =C38*$D$18 -> 684.17146 | E38: =C38*$D$17 -> 560.90854 | F38: =$C38*$E$18 -> 583.87146 | G38: =$C38*$E$17 -> 460.60854
C39: 18 | D39: =C39*$D$18 -> 724.41684 | E39: =C39*$D$17 -> 593.90316 | F39: =$C39*$E$18 -> 618.21684 | G39: =$C39*$E$17 -> 487.70316
C40: 19 | D40: =C40*$D$18 -> 764.66222 | E40: =C40*$D$17 -> 626.89778 | F40: =$C40*$E$18 -> 652.56222 | G40: =$C40*$E$17 -> 514.79778 | J40: =IF($E$13>=5, "MPPT5", "") | K40: 24 | L40: 3 | M40: =IF($E$13>=5, K40*L40*$E$9/1000, "") | N40: =IF($E$13>=5, K40*L40*$N$9, "")
C41: 20 | D41: =C41*$D$18 -> 804.9076 | E41: =C41*$D$17 -> 659.8924 | F41: =$C41*$E$18 -> 686.9076 | G41: =$C41*$E$17 -> 541.8924 | J41: =IF($E$13>=5, "Status", "") | K41: =IF($E$13>=5,IF(R123=1,"okay",IF(Tabelle1!$A$1=1,"Falsche Panel-Anzahl","wrong panel number")),"") | L41: =IF($E$13>=5,IF(R125=1,"okay",IF(Tabelle1!$A$1=1,"Zu viele Strings","to many strings")),"") | M41: =IF($E$13>=5,IF(R126=1,"okay",IF(Tabelle1!$A$1=1,"Zu viel PV Leistung","too much PV power")),"")
C42: 21 | D42: =C42*$D$18 -> 845.15298 | E42: =C42*$D$17 -> 692.88702 | F42: =$C42*$E$18 -> 721.25298 | G42: =$C42*$E$17 -> 568.98702
C43: 22 | D43: =C43*$D$18 -> 885.39836 | E43: =C43*$D$17 -> 725.88164 | F43: =$C43*$E$18 -> 755.59836 | G43: =$C43*$E$17 -> 596.08164
C44: 23 | D44: =C44*$D$18 -> 925.64374 | E44: =C44*$D$17 -> 758.87626 | F44: =$C44*$E$18 -> 789.94374 | G44: =$C44*$E$17 -> 623.17626 | J44: =IF($E$13>=6, "MPPT6", "") | K44: 24 | L44: 3 | M44: =IF($E$13>=6, K44*L44*$E$9/1000, "") | N44: =IF($E$13>=6, K44*L44*$N$9, "")
C45: 24 | D45: =C45*$D$18 -> 965.88912 | E45: =C45*$D$17 -> 791.87088 | F45: =$C45*$E$18 -> 824.28912 | G45: =$C45*$E$17 -> 650.27088 | J45: =IF($E$13>=6, "Status", "") | K45: =IF($E$13>=6,IF(R131=1,"okay",IF(Tabelle1!$A$1=1,"Falsche Panel-Anzahl","wrong panel number")),"") | L45: =IF($E$13>=6,IF(R133=1,"okay",IF(Tabelle1!$A$1=1,"Zu viele Strings","to many strings")),"") | M45: =IF($E$13>=6,IF(R134=1,"okay",IF(Tabelle1!$A$1=1,"Zu viel PV Leistung","too much PV power")),"")
C46: 25 | D46: =C46*$D$18 -> 1006.1345 | E46: =C46*$D$17 -> 824.8655 | F46: =$C46*$E$18 -> 858.6345 | G46: =$C46*$E$17 -> 677.3655
C47: 26 | D47: =C47*$D$18 -> 1046.3799 | E47: =C47*$D$17 -> 857.86012 | F47: =$C47*$E$18 -> 892.97988 | G47: =$C47*$E$17 -> 704.46012 | J47: Total | M47: =SUM(M24, M28, M32, M36, M40, M44) -> 12.015 | N47: =SUM(N24, N28, N32, N36, N40, N44) -> 53.948916
C48: 27 | D48: =C48*$D$18 -> 1086.6253 | E48: =C48*$D$17 -> 890.85474 | F48: =$C48*$E$18 -> 927.32526 | G48: =$C48*$E$17 -> 731.55474
C49: 28 | D49: =C49*$D$18 -> 1126.8706 | E49: =C49*$D$17 -> 923.84936 | F49: =$C49*$E$18 -> 961.67064 | G49: =$C49*$E$17 -> 758.64936 | J49: =IF(Tabelle1!$A$1=1,"Hinweis :",IF(Tabelle1!$A$1=2,"Note :")) -> Hinweis : | K49: =IF(AND(Tabelle1!$A$1=1,OR(Q217=1,Q218=1)),R178,"")&IF(AND(Tabelle1!$A$1=2,OR(Q217=1,Q218=1)),R179,"")&IF(AND(Tabelle1!$A$1=1,Q214=1),R180,"")&IF(AND(Tabelle1!$A$1=2,Q214=1),R181,"")&IF(AND(Tabelle1!$A$1=1,Q215=1),R182,"")&IF(AND(Tabelle1!$A$1=2,Q215=1),R183,"")&IF(AND(Tabelle1!$A$1=1,Q216=1),R184,"")&IF(AND(Tabelle1!$A$1=2,Q216=1),R185,"")&IF(AND(Tabelle1!$A$1=1,Q207=1),R186,"")&IF(AND(Tabelle1!$A$1=2,Q207=1),R187,"")&IF(AND(Tabelle1!$A$1=1,Q208=1),R188,"")&IF(AND(Tabelle1!$A$1=2,Q208=1),R189,"")&IF(AND(Tabelle1!$A$1=1,Q209=1),R190,"")&IF(AND(Tabelle1!$A$1=2,Q209=1),R191,"")&IF(AND(Tabelle1!$A$1=1,Q210=1),R192,"")&IF(AND(Tabelle1!$A$1=2,Q210=1),R193,"")&IF(AND(Tabelle1!$A$1=1,Q211=1),R194,"")&IF(AND(Tabelle1!$A$1=2,Q211=1),R195,"")&IF(AND(Tabelle1!$A$1=1,Q212=1),R196,"")&IF(AND(Tabelle1!$A$1=2,Q212=1),R197,"")&IF(AND(Tabelle1!$A$1=1,Q213=1),R198,"")&IF(AND(Tabelle1!$A$1=2,Q213=1),R199,"") -> - PV Spannungen unter 300V erhöhen den Lüftergeräuschpegel - Gesamte AC Wechselrichterleistung ist auf 10kW limitiert (geschützter Bereich & ungeschützter Bereich & Netzeinspeisung)
C50: 29 | D50: =C50*$D$18 -> 1167.116 | E50: =C50*$D$17 -> 956.84398 | F50: =$C50*$E$18 -> 996.01602 | G50: =$C50*$E$17 -> 785.74398
C52: =IF(Tabelle1!$A$1=1,"ANZAHL STRINGS PRO MPPT",IF(Tabelle1!$A$1=2,"NUMBER OF STRINGS PER MPPT")) -> ANZAHL STRINGS PRO MPPT | D52: Isc MAX | E52: Isc MIN | F52: Impp MAX | G52: Imppt MIN
C53: =IF(Tabelle1!$A$1=1,"Anzahl",IF(Tabelle1!$A$1=2,"Number")) -> Anzahl | D53: A | E53: A | F53: A | G53: A
C54: 1 | D54: =$F$17*$C54 -> 15.69756 | E54: =$F$18*$C54 -> 15.14244 | F54: =$G$17*$C54 -> 14.76756 | G54: =$G$18*$C54 -> 14.21244
C55: 2 | D55: =$F$17*$C55 -> 31.39512 | E55: =$F$18*$C55 -> 30.28488 | F55: =$G$17*$C55 -> 29.53512 | G55: =$G$18*$C55 -> 28.42488
C56: 3 | D56: =$F$17*$C56 -> 47.09268 | E56: =$F$18*$C56 -> 45.42732 | F56: =$G$17*$C56 -> 44.30268 | G56: =$G$18*$C56 -> 42.63732
C57: 4 | D57: =$F$17*$C57 -> 62.79024 | E57: =$F$18*$C57 -> 60.56976 | F57: =$G$17*$C57 -> 59.07024 | G57: =$G$18*$C57 -> 56.84976
D60: =IF(Tabelle1!$A$1=1,"→ Eingabefelder",IF(Tabelle1!$A$1=2,"→ Input fields")) -> → Eingabefelder
D61: ="→ Okay" -> → Okay
D62: =IF(Tabelle1!$A$1=1,"→ Konfiguration okay, jedoch mit Limitierungen",IF(Tabelle1!$A$1=2,"→ Configuration okay, but with restrictions")) -> → Konfiguration okay, jedoch mit Limitierungen
D63: =IF(Tabelle1!$A$1=1,"→ Fehlerhafte Konfiguration",IF(Tabelle1!$A$1=2,"→ Faulty configuration")) -> → Fehlerhafte Konfiguration | J63: =IF(Tabelle1!$A$1=1,"Beim Ausdruck bitte A3 Format verwenden",IF(Tabelle1!$A$1=2,"Please use A3 format for printing")) -> Beim Ausdruck bitte A3 Format verwenden
T71: 1/-1 panel
Q72: Vmpp min Panels +°C | R72: =ROUNDUP(H13/E17,0) -> 13 | S72: =R72*E17 -> 352.23006 | T72: =(R72-1)*E17 -> 325.13544
Q73: Voc min Panels +°C | R73: =ROUNDUP(J13/D17,0) -> 11 | S73: =R73*D17 -> 362.94082 | T73: =(R73-1)*D17 -> 329.9462
Q74: Vmpp max Panels -°C | R74: =ROUNDDOWN(I13/E18,0) -> 23 | S74: =R74*E18 -> 789.94374 | T74: =(R74+1)*E18 -> 824.28912
Q75: Voc max Panels -°C | R75: =ROUNDDOWN(K13/D18,0) -> 22 | S75: =R78*F17 -> 15.69756 | T75: =(R78+1)*F17 -> 31.39512
Q76: Pmpp max -°C | R76: =ROUNDDOWN(G13*1000/H18,0) -> 20
Q77: Impp max +°C < 300V | R77: =ROUNDDOWN(L13/G17,0) -> 1
Q78: Isc max +°C | R78: =MIN(4,ROUNDDOWN(N13/F17,0)) -> 1
Q79: string current limited | R79: =ROUNDDOWN(M13/G17,0) -> 1
Q84: min panels | R84: =MAX(R73,R72) -> 13
Q85: max panels | R85: =MIN(R75,R74) -> 22
Q89: MPPT 1
Q90: okay | R90: =IF(SUM(R91:R94)=3,1,0) -> 1
Q91: panel number | R91: =IF(OR(K24=0,AND(K24>=$R$84,K24<=R85)),1,0) -> 1
Q92: string current limited | R92: =IF(L24*$G$17>$M$13,1,0) -> 0
Q93: string number | R93: =IF(AND(L24>=0,L24<=R78),1,0) -> 1
Q94: power | R94: =IF(AND(M24<=$G$13),1,0) -> 1
Q97: MPPT 2
Q98: okay | R98: =IF(SUM(R99:R102)=3,1,0) -> 1
Q99: panel number | R99: =IF(OR(K28=0,AND(K28>=$R$84,K28<=$R$85)),1,0) -> 1
Q100: string current limited | R100: =IF(L28*$G$17>$M$13,1,0) -> 0
Q101: string number | R101: =IF(AND(L28>=0,L28<=$R$78),1,0) -> 1
Q102: power | R102: =IF(AND(M28<=$G$13),1,0) -> 1
Q105: MPPT 3
Q106: okay | R106: =IF(SUM(R107:R110)=3,1,0) -> 0
Q107: panel number | R107: =IF(OR(K32=0,AND(K32>=$R$84,K32<=$R$85)),1,0) -> 0
Q108: string current limited | R108: =IF(L32*$G$17>$M$13,1,0) -> 0
Q109: string number | R109: =IF(AND(L32>=0,L32<=$R$78),1,0) -> 1
Q110: power | R110: =IF(AND(M32<=$G$13),1,0) -> 0
Q113: MPPT 4
Q114: okay | R114: =IF(SUM(R115:R118)=3,1,0) -> 0
Q115: panel number | R115: =IF(OR(K36=0,AND(K36>=$R$84,K36<=$R$85)),1,0) -> 0
Q116: string current limited | R116: =IF(L36*$G$17>$M$13,1,0) -> 0
Q117: string number | R117: =IF(AND(L36>=0,L36<=$R$78),1,0) -> 1
Q118: power | R118: =IF(AND(M36<=$G$13),1,0) -> 0
Q121: MPPT 5
Q122: okay | R122: =IF(SUM(R123:R126)=3,1,0) -> 0
Q123: panel number | R123: =IF(OR(K40=0,AND(K40>=$R$84,K40<=$R$85)),1,0) -> 0
Q124: string current limited | R124: =IF(L40*$G$17>$M$13,1,0) -> 1
Q125: string number | R125: =IF(AND(L40>=0,L40<=$R$78),1,0) -> 0
Q126: power | R126: =IF(AND(M40<=$G$13),1,0) -> 0
Q129: MPPT 6
Q130: okay | R130: =IF(SUM(R131:R134)=3,1,0) -> 0
Q131: panel number | R131: =IF(OR(K44=0,AND(K44>=$R$84,K44<=$R$85)),1,0) -> 0
Q132: string current limited | R132: =IF(L44*$G$17>$M$13,1,0) -> 1
Q133: string number | R133: =IF(AND(L44>=0,L44<=$R$78),1,0) -> 0
Q134: power | R134: =IF(AND(M44<=$G$13),1,0) -> 0
...

Sheet PV modules
B2: PV-MODULE NAME | C2: @ TEMP | D2: Pmpp | E2: Uoc | F2: Umpp | G2: Isc | H2: Impp | I2: =IF(Tabelle1!$A$1=1,"EFFIZIENZ",IF(Tabelle1!$A$1=2,"EFFICIENCY")) -> EFFIZIENZ | J2: =IF(Tabelle1!$A$1=1,"TEMP KOEFFIZIENT Uoc",IF(Tabelle1!$A$1=2,"TEMP COEFFICIENT Uoc")) -> TEMP KOEFFIZIENT Uoc | K2: =IF(Tabelle1!$A$1=1,"TEMP KOEFFIZIENT Uoc",IF(Tabelle1!$A$1=2,"TEMP COEFFICIENT Uoc")) -> TEMP KOEFFIZIENT Uoc | L2: =IF(Tabelle1!$A$1=1,"TEMP KOEFFIZIENT Isc",IF(Tabelle1!$A$1=2,"TEMP COEFFICIENT Isc")) -> TEMP KOEFFIZIENT Isc | M2: =IF(Tabelle1!$A$1=1,"TEMP KOEFFIZIENT Isc",IF(Tabelle1!$A$1=2,"TEMP COEFFICIENT Isc")) -> TEMP KOEFFIZIENT Isc | N2: =IF(Tabelle1!$A$1=1,"TEMP KOEFFIZIENT Pmpp",IF(Tabelle1!$A$1=2,"TEMP COEFFICIENT Pmpp")) -> TEMP KOEFFIZIENT Pmpp | O2: =IF(Tabelle1!$A$1=1,"TEMP KOEFFIZIENT Pmpp",IF(Tabelle1!$A$1=2,"TEMP COEFFICIENT Pmpp")) -> TEMP KOEFFIZIENT Pmpp | P2: =IF(Tabelle1!$A$1=1,"HÖHE",IF(Tabelle1!$A$1=2,"HEIGHT")) -> HÖHE | Q2: =IF(Tabelle1!$A$1=1,"BREITE",IF(Tabelle1!$A$1=2,"WIDTH")) -> BREITE | R2: =IF(Tabelle1!$A$1=1,"FLÄCHE",IF(Tabelle1!$A$1=2,"SURFACE")) -> FLÄCHE
C3: °C | D3: Wp | E3: Vdc | F3: Vdc | G3: A | H3: A | I3: % | J3: %/K | K3: mV/K | L3: %/K | M3: mA/K | N3: %/K | O3: mW/K | P3: mm | Q3: mm | R3: m²
B4: Jinko Neo 410W | C4: 25 | D4: 410 | E4: 37.14 | F4: 30.62 | G4: 13.92 | H4: 13.39 | I4: 0.2125 | J4: -0.28 | L4: 0.048 | P4: 1722 | Q4: 1134 | R4: =P4*Q4/1000000 -> 1.952748
B5: Jinko Neo 415W | C5: 25 | D5: 415 | E5: 37.92 | F5: 31.32 | G5: 13.99 | H5: 13.25 | I5: 0.2125 | J5: -0.25 | L5: 0.046 | P5: 1400 | Q5: 1086 | R5: =P5*Q5/1000000 -> 1.5204
B6: Jinko Neo 420W | C6: 25 | D6: 420 | E6: 38.11 | F6: 31.51 | G6: 14.07 | H6: 13.33 | I6: 0.2151 | J6: -0.25 | L6: 0.046 | P6: 1400 | Q6: 1086 | R6: =P6*Q6/1000000 -> 1.5204
B7: Jinko Neo 425W | C7: 25 | D7: 425 | E7: 38.3 | F7: 31.7 | G7: 14.15 | H7: 13.41 | I7: 0.2176 | J7: -0.25 | L7: 0.046 | P7: 1400 | Q7: 1086 | R7: =P7*Q7/1000000 -> 1.5204
B8: Jinko neo 430W | C8: 25 | D8: 430 | E8: 38.49 | F8: 31.88 | G8: 14.23 | H8: 13.49 | I8: 0.2202 | J8: -0.25 | L8: 0.046 | N8: -0.29 | P8: 1400 | Q8: 1086 | R8: =P8*Q8/1000000 -> 1.5204
B9: Jinko Tiger Pro 395W | C9: 25 | D9: 395 | E9: 36.9 | F9: 30.32 | G9: 13.71 | H9: 13.03 | I9: 0.2023 | J9: -0.28 | L9: 0.048 | N9: -0.29 | P9: 1360 | Q9: 1086 | R9: =P9*Q9/1000000 -> 1.47696
B10: Jinko Tiger Pro 400W | C10: 25 | D10: 400 | E10: 39.98 | F10: 30.42 | G10: 13.78 | H10: 10.15 | I10: 0.2048 | J10: -0.28 | L10: 0.048 | N10: -0.29 | P10: 1360 | Q10: 1086 | R10: =P10*Q10/1000000 -> 1.47696
B11: Jinko Tiger Pro 405W | C11: 25 | D11: 405 | E11: 37.06 | F11: 30.52 | G11: 13.85 | H11: 13.27 | I11: 0.2074 | J11: -0.28 | L11: 0.048 | N11: -0.29 | P11: 1360 | Q11: 1086 | R11: =P11*Q11/1000000 -> 1.47696
B12: Jinko Tiger Pro 410W | C12: 25 | D12: 410 | E12: 37.14 | F12: 30.62 | G12: 13.92 | H12: 13.39 | I12: 0.21 | J12: -0.28 | L12: 0.048 | N12: -0.29 | P12: 1360 | Q12: 1086 | R12: =P12*Q12/1000000 -> 1.47696
B13: Jinko Tiger Pro 415W | C13: 25 | D13: 415 | E13: 37.31 | F13: 30.79 | G13: 14.01 | H13: 13.48 | I13: 0.2125 | J13: -0.28 | L13: 0.048 | N13: -0.29 | P13: 1360 | Q13: 1086 | R13: =P13*Q13/1000000 -> 1.47696
B14: Phono Solar Twinplus X 395W | C14: 25 | D14: 395 | E14: 36.67 | F14: 30.67 | G14: 13.42 | H14: 12.88 | I14: 0.2023 | J14: -0.28 | L14: 0.048 | P14: 1722 | Q14: 1134 | R14: =P14*Q14/1000000 -> 1.952748
B15: Phono Solar Twinplus X 400W | C15: 25 | D15: 400 | E15: 36.87 | F15: 30.85 | G15: 13.52 | H15: 12.97 | I15: 0.2048 | J15: -0.28 | L15: 0.048 | P15: 1722 | Q15: 1134 | R15: =P15*Q15/1000000 -> 1.952748
B16: Phono Solar Twinplus X 405W | C16: 25 | D16: 405 | E16: 37.05 | F16: 31.02 | G16: 13.62 | H16: 13.06 | I16: 0.2074 | J16: -0.28 | L16: 0.048 | P16: 1722 | Q16: 1134 | R16: =P16*Q16/1000000 -> 1.952748
B17: Phono Solar Twinplus X 410W | C17: 25 | D17: 410 | E17: 37.23 | F17: 31.18 | G17: 13.72 | H17: 13.15 | I17: 0.21 | J17: -0.28 | L17: 0.048 | P17: 1722 | Q17: 1134 | R17: =P17*Q17/1000000 -> 1.952748
B18: Phono Solar Twinplus X 415W | C18: 25 | D18: 415 | E18: 37.42 | F18: 31.35 | G18: 13.82 | H18: 13.24 | I18: 0.2125 | J18: -0.28 | L18: 0.048 | P18: 1722 | Q18: 1134 | R18: =P18*Q18/1000000 -> 1.952748
B19: Phono Solar Twinplus X 415W NOCT | C19: 25 | D19: 415 | E19: 34.62 | F19: 28.24 | G19: 10.84 | H19: 10.41 | I19: 0.2125 | J19: -0.28 | L19: 0.048 | P19: 1722 | Q19: 1134 | R19: =P19*Q19/1000000 -> 1.952748
B20: Sapphire 415 M108 | C20: 25 | D20: 415 | E20: 37.7 | F20: 31.74 | G20: 13.96 | H20: 13.08 | I20: 0.208 | J20: -0.28 | L20: 0.04 | N20: -0.39 | P20: 1740 | Q20: 1145 | R20: =P20*Q20/1000000 -> 1.9923
B21: Vitovolt M410 WE | C21: 25 | D21: 410 | E21: 46.6 | F21: 38.8 | G21: 11.07 | H21: 10.57 | I21: 0.2092 | J21: -0.27 | L21: 0.04 | N21: -0.39 | P21: 1719 | Q21: 1140 | R21: =P21*Q21/1000000 -> 1.95966
B22: JASolar JAM54D41-430/LB | C22: 25 | D22: 430 | E22: 38.5 | F22: 32.12 | G22: 14.14 | H22: 13.39 | I22: 0.215 | J22: -0.26 | L22: 0.046 | N22: -0.3 | P22: 1762 | Q22: 1134 | R22: =P22*Q22/1000000 -> 1.998108
B23: Hi-MO 6 LR5-54HTB 430W | C23: 25 | D23: 430 | E23: 39.43 | F23: 33.16 | G23: 14 | H23: 12.97 | I23: 0.22 | J23: -0.23 | L23: 0.05 | N23: -0.29 | P23: 1722 | Q23: 1134 | R23: =P23*Q23/1000000 -> 1.952748
B24: HAT-SAAE HT60-166M 380W | C24: 25 | D24: 380 | E24: 41.7 | F24: 34.6 | G24: 11.98 | H24: 10.99 | I24: 0.209 | J24: -0.26 | L24: 0.042 | N24: -0.33 | P24: 1755 | Q24: 1038 | R24: =P24*Q24/1000000 -> 1.82169
B25: Aiko 445 Full Black | C25: 25 | D25: 445 | E25: 40.59 | F25: 33.6 | G25: 14.02 | H25: 13.25 | I25: 0.228 | J25: -0.22 | L25: 0.05 | N25: -0.26 | P25: 1722 | Q25: 1134 | R25: =P25*Q25/1000000 -> 1.952748
B26: PV PowerTech PVQ3 235 | C26: 25 | D26: 235 | E26: 37.63 | F26: 30.33 | G26: 8.32 | H26: 7.75 | I26: 0.145 | J26: -0.29 | L26: 0.04 | N26: -0.42 | P26: 1639 | Q26: 989 | R26: =P26*Q26/1000000 -> 1.620971
B27: Tiger Neo N-type 60HL4-(V) 480 Watt | C27: 25 | D27: 480 | E27: 42.71 | F27: 35.38 | G27: 14.31 | H27: 13.57 | I27: 0.2224 | J27: -0.25 | L27: 0.045 | N27: -0.29 | P27: 1903 | Q27: 1134 | R27: =P27*Q27/1000000 -> 2.158002
B28: Sapphire M108 395Wp | C28: 25 | D28: 395 | E28: 37.14 | F28: 30.98 | G28: 13.58 | H28: 12.76 | I28: 0.198 | J28: -0.28 | L28: 0.04 | N28: -0.39 | P28: 1740 | Q28: 1145 | R28: =P28*Q28/1000000 -> 1.9923
B29: Hyundai HiT-H445LE-FB | C29: 25 | D29: 445 | E29: 36.62 | F29: 30.72 | G29: 15.42 | H29: 14.49 | I29: 0.223 | J29: -0.22 | L29: 0.04 | N29: -0.24 | P29: 1762 | Q29: 1134 | R29: =P29*Q29/1000000 -> 1.998108
B30: WINAICO WST-450NFX54-B1 Glas/Glas FB | C30: 25 | D30: 450 | E30: 39.4 | F30: 33.39 | G30: 14.28 | H30: 13.48 | I30: 0.225 | J30: -0.25 | L30: 0.043 | N30: -0.29 | P30: 1762 | Q30: 1134 | R30: =P30*Q30/1000000 -> 1.998108
B31: Bisol Laminate BDO 435Wp | C31: 25 | D31: 435 | E31: 38.2 | F31: 31.6 | G31: 14.4 | H31: 13.8 | I31: 0.223 | J31: -0.25 | L31: 0.045 | N31: -0.3 | P31: 1715 | Q31: 1128 | R31: =P31*Q31/1000000 -> 1.93452
... B34: Tiger Neo III 48QL6-DB 470 Watt | C34: 25 | D34: 470 | E34: 36.19 | F34: 31.13 | G34: 15.8 | H34: 15.18 | I34: 0.2352 | J34: -0.24 | L34: 0.046 | N34: -0.26 | P34: 1792 | Q34: 1140 | R34: =P34*Q34/1000000 -> 2.04288

Sheet Inverter
B2: =IF(Tabelle1!$A$1=1,"PRODUKT",IF(Tabelle1!$A$1=2,"PRODUCT")) -> PRODUKT | C2: =IF(Tabelle1!$A$1=1,"TYP",IF(Tabelle1!$A$1=2,"TYPE")) -> TYP | D2: =IF(Tabelle1!$A$1=1,"AC LEISTUNG",IF(Tabelle1!$A$1=2,"AC POWER")) -> AC LEISTUNG | E2: =IF(Tabelle1!$A$1=1,"ANZAHL MPPT's",IF(Tabelle1!$A$1=2,"NUMBER OF MPPT's")) -> ANZAHL MPPT's | F2: =IF(Tabelle1!$A$1=1,"PV LEISTUNG",IF(Tabelle1!$A$1=2,"PV POWER")) -> PV LEISTUNG | G2: =IF(Tabelle1!$A$1=1,"PV LEISTUNG /MPPT",IF(Tabelle1!$A$1=2,"PV POWER /MPPT")) -> PV LEISTUNG /MPPT | H2: Umppt MIN | I2: Umppt MAX | J2: Uoc MIN | K2: Uoc MAX | L2: Impp < 300Vdc | M2: Impp > 300Vdc | N2: Isc
D3: kW | F3: kWp | G3: kW | H3: Vdc | I3: Vdc | J3: Vdc | K3: Vdc | L3: A | M3: A | N3: A | P3: [m²]
B4: h10 (low PV) | C4: hybrid | D4: 10 | E4: 2 | F4: 15 | G4: 10 | H4: 210 | I4: 800 | J4: 250 | K4: 900 | L4: 15 | M4: 18.6 | N4: 25
B5: h10 (standard) | C5: hybrid | D5: 10 | E5: 2 | F5: 15 | G5: 10 | H5: 350 | I5: 800 | J5: 350 | K5: 900 | L5: 18.6 | M5: 18.6 | N5: 25
B6: i10 | C6: hybrid | D6: 10 | E6: 2 | F6: 15 | G6: 10 | H6: 135 | I6: 850 | J6: 165 | K6: 1000 | L6: 30 | M6: 30 | N6: 40
B7: i20 | C7: hybrid | D7: 20 | E7: 2 | F7: 30 | G7: 20 | H7: 135 | I7: 850 | J7: 165 | K7: 1000 | L7: 30 | M7: 30 | N7: 40
B8: i30 | C8: hybrid | D8: 30 | E8: 4 | F8: 45 | G8: 20 | H8: 200 | I8: 850 | J8: 230 | K8: 1000 | L8: 30 | M8: 30 | N8: 40
B9: c30 | C9: hybrid | D9: 30 | E9: 4 | F9: 60 | G9: 35 | H9: 200 | I9: 850 | J9: 200 | K9: 1000 | L9: 30 | M9: 40 | N9: 50
B10: c50 | C10: hybrid | D10: 50 | E10: 4 | F10: 100 | G10: 35 | H10: 200 | I10: 850 | J10: 200 | K10: 1000 | L10: 30 | M10: 40 | N10: 50
B11: c100 | C11: hybrid | D11: 100 | E11: 6 | F11: 200 | G11: 45 | H11: 160 | I11: 950 | J11: 180 | K11: 1000 | L11: 48 | M11: 48 | N11: 60
B12: c125 | C12: hybrid | D12: 125 | E12: 6 | F12: 250 | G12: 45 | H12: 160 | I12: 950 | J12: 180 | K12: 1000 | L12: 48 | M12: 48 | N12: 60
B13: k10 | C13: hybrid | D13: 10 | E13: 4 | F13: 20 | G13: 15 | H13: 130 | I13: 850 | J13: 120 | K13: 1000 | L13: 20 | M13: 20 | N13: 25
B14: k20 | C14: hybrid | D14: 20 | E14: 4 | F14: 40 | G14: 15 | H14: 250 | I14: 850 | J14: 120 | K14: 1000 | L14: 20 | M14: 20 | N14: 25
B15: k30 | C15: hybrid | D15: 30 | E15: 4 | F15: 50 | G15: 15 | H15: 380 | I15: 850 | J15: 120 | K15: 1000 | L15: 20 | M15: 20 | N15: 25
